BEGIN:VCALENDAR
VERSION:2.0
PRODID:Events Booking
BEGIN:VEVENT
UID:69e7519d25a9c
SUMMARY:Material | Katie Green & Wren Ross - Liminal Spaces
DESCRIPTION:A two person exhibit featuring Wren Ross and Katie Green\, on A
 pril 24 - May 22\, 2026. Opening night on April 24th.&nbsp\;
DTSTART:20260424T233000Z
DTEND:20260523T020000Z
DTSTAMP:20260421T040742Z
ORGANIZER;CN=SSL Arts Council:MAILTO:arts@sslc.gov
END:VEVENT
BEGIN:VEVENT
UID:69e7519d25b19
SUMMARY:Mural Fest 2026
DESCRIPTION:South Salt Lake’s Creative Industries Zone is home to the lar
 gest collection of street art in Utah—78 funky mural art paintings.
DTSTART:20260509T220000Z
DTEND:02020510T025956Z
DTSTAMP:20260304T060448Z
ORGANIZER;CN=SSL Arts Council:MAILTO:arts@sslc.gov
END:VEVENT
BEGIN:VEVENT
UID:69e7519d25b4f
SUMMARY:Around the World Holiday Market
DESCRIPTION:Join us for an immersive evening that transforms the Historic S
 cott School into a vibrant hub of international joy. Formerly known as Sea
 son of Culture\, the Around the World Holiday Market is more than just an 
 art fair—it’s a passport to the traditions\, flavors\, and rhythms of 
 our diverse community.
LOCATION:3280 S 540 E\, South Salt Lake\, UT 84106\, USA
DTSTART:20261120T010000Z
DTEND:20261120T030000Z
DTSTAMP:20260319T235024Z
ORGANIZER;CN=SSL Arts Council:MAILTO:arts@sslc.gov
GEO:40.700156;-111.876428
X-APPLE-STRUCTURED-LOCATION;VALUE=URI;X-ADDRESS=3280 S 540 E\, South Salt L
 ake\, UT 84106\, USA;X-APPLE-RADIUS=72;X-TITLE=Historic Scott School:40.70
 0156;-111.876428
END:VEVENT
END:VCALENDAR